BEGIN:VCALENDAR
VERSION:2.0
PRODID:-//Arc - Bruxelles - antenne bruxelloise de l&#039;Arc - ECPv6.15.20//NONSGML v1.0//EN
CALSCALE:GREGORIAN
METHOD:PUBLISH
X-WR-CALNAME:Arc - Bruxelles - antenne bruxelloise de l&#039;Arc
X-ORIGINAL-URL:https://www.arc-culture-bruxelles.be
X-WR-CALDESC:Évènements pour Arc - Bruxelles - antenne bruxelloise de l&#039;Arc
REFRESH-INTERVAL;VALUE=DURATION:PT1H
X-Robots-Tag:noindex
X-PUBLISHED-TTL:PT1H
BEGIN:VTIMEZONE
TZID:Europe/Brussels
BEGIN:DAYLIGHT
TZOFFSETFROM:+0100
TZOFFSETTO:+0200
TZNAME:CEST
DTSTART:20250330T010000
END:DAYLIGHT
BEGIN:STANDARD
TZOFFSETFROM:+0200
TZOFFSETTO:+0100
TZNAME:CET
DTSTART:20251026T010000
END:STANDARD
BEGIN:DAYLIGHT
TZOFFSETFROM:+0100
TZOFFSETTO:+0200
TZNAME:CEST
DTSTART:20260329T010000
END:DAYLIGHT
BEGIN:STANDARD
TZOFFSETFROM:+0200
TZOFFSETTO:+0100
TZNAME:CET
DTSTART:20261025T010000
END:STANDARD
BEGIN:DAYLIGHT
TZOFFSETFROM:+0100
TZOFFSETTO:+0200
TZNAME:CEST
DTSTART:20270328T010000
END:DAYLIGHT
BEGIN:STANDARD
TZOFFSETFROM:+0200
TZOFFSETTO:+0100
TZNAME:CET
DTSTART:20271031T010000
END:STANDARD
END:VTIMEZONE
BEGIN:VEVENT
DTSTART;TZID=Europe/Brussels:20260413T090000
DTEND;TZID=Europe/Brussels:20260415T123000
DTSTAMP:20260422T005037
CREATED:20251019T162503Z
LAST-MODIFIED:20251019T175315Z
UID:8556-1776070800-1776256200@www.arc-culture-bruxelles.be
SUMMARY:Coaching d'Excel avril
DESCRIPTION:Cette formation vous initie aux bases du tableur et vous guide progressivement vers un usage plus efficace d’Excel. Vous apprendrez à créer\, organiser et analyser vos données grâce aux formules\, fonctions et mises en forme adaptées. Les tableaux croisés dynamiques\, graphiques et mises en forme conditionnelles seront explorés pour mieux visualiser vos résultats. Chaque notion est appliquée immédiatement par des exercices concrets. L’objectif est de développer une réelle autonomie et de gagner du temps dans vos usages quotidiens\, personnels ou professionnels. \n		\n									\n						\n						\n					\n			\n									\n						\n				\n									Formulaire d’inscriptionVotre prénom*Votre nom*Contact Email*Votre email éventuelVotre GSM*Commentaires éventuelsVous avez des souhaits particuliers ?Soumettre
URL:https://www.arc-culture-bruxelles.be/activite/coaching-dexcel-avril/
LOCATION:ARC ASBL\, Rue Association 20\, Bruxelles\, 1000\, Belgique
CATEGORIES:Excel,Numérique
ATTACH;FMTTYPE=image/jpeg:https://www.arc-culture-bruxelles.be/wp-content/uploads/2025/10/excel.jpg
ORGANIZER;CN="ARC ASBL":MAILTO:bruxelles@arc-culture.be
END:VEVENT
END:VCALENDAR