BEGIN:VCALENDAR
VERSION:2.0
PRODID:-//Arc - Bruxelles - antenne bruxelloise de l&#039;Arc - ECPv6.15.20//NONSGML v1.0//EN
CALSCALE:GREGORIAN
METHOD:PUBLISH
X-WR-CALNAME:Arc - Bruxelles - antenne bruxelloise de l&#039;Arc
X-ORIGINAL-URL:https://www.arc-culture-bruxelles.be
X-WR-CALDESC:Évènements pour Arc - Bruxelles - antenne bruxelloise de l&#039;Arc
REFRESH-INTERVAL;VALUE=DURATION:PT1H
X-Robots-Tag:noindex
X-PUBLISHED-TTL:PT1H
BEGIN:VTIMEZONE
TZID:Europe/Brussels
BEGIN:DAYLIGHT
TZOFFSETFROM:+0100
TZOFFSETTO:+0200
TZNAME:CEST
DTSTART:20250330T010000
END:DAYLIGHT
BEGIN:STANDARD
TZOFFSETFROM:+0200
TZOFFSETTO:+0100
TZNAME:CET
DTSTART:20251026T010000
END:STANDARD
BEGIN:DAYLIGHT
TZOFFSETFROM:+0100
TZOFFSETTO:+0200
TZNAME:CEST
DTSTART:20260329T010000
END:DAYLIGHT
BEGIN:STANDARD
TZOFFSETFROM:+0200
TZOFFSETTO:+0100
TZNAME:CET
DTSTART:20261025T010000
END:STANDARD
BEGIN:DAYLIGHT
TZOFFSETFROM:+0100
TZOFFSETTO:+0200
TZNAME:CEST
DTSTART:20270328T010000
END:DAYLIGHT
BEGIN:STANDARD
TZOFFSETFROM:+0200
TZOFFSETTO:+0100
TZNAME:CET
DTSTART:20271031T010000
END:STANDARD
END:VTIMEZONE
BEGIN:VEVENT
DTSTART;TZID=Europe/Brussels:20260330T090000
DTEND;TZID=Europe/Brussels:20260402T123000
DTSTAMP:20260422T010221
CREATED:20221104T142805Z
LAST-MODIFIED:20251020T085442Z
UID:8489-1774861200-1775133000@www.arc-culture-bruxelles.be
SUMMARY:WordPress classique - du 30 mars au 2 avril 2026
DESCRIPTION:WordPress est le système de gestion de contenu (CMS) open source le plus utilisé au monde. Tout le monde peut se lancer avec outil de publication dans la création d’un site web sans rien connaître à la programmation. Changez de thème (habillage) en un clic. Libérez la puissance de WordPress par l’utilisation d’extensions diverses à sélectionner parmi des milliers\, pour ajouter des fonctionnalités à volonté. Vous bénéficierez d’un hébergement WordPress privé pendant 6 mois pour vous entraîner et nous vous assurons d’un support par email de 3 mois également. Si vous créez un site sur l’hébergement fourni par l’ARC\, nous vous aiderons à le transférer sur votre hébergement définitif. \nUn syllabus imprimé vous sera remis. \nDu 30 mars au 2 avril 2026 – 9h00 à 12h30 – 4 matinées\n200 € \nSommaire : \nFaire un site : comment acheter des noms de domaine et choisir un hébergeur\nDifférence entre WordPres.org et WordPress.com\nWordPress : histoire\, le vocabulaire\, exemples de site\, ce que sont les CMS (Content Management System)\, l’environnement web\nProcédure d’installation détaillée : envoi des fichiers avec Filezilla\nCréer des pages et des articles\n-à l’aide de l’éditeur de bloc Gutenberg\n-à l’aide du constructeur de page Elementor\n=>Ces deux constructeurs de page forment la base de la formation.\nCréation de menu et alimentation des espaces de widget \nPersonnaliser l’apparence de votre site avec des thèmes. Nous verrons deux ou trois thèmes de niveau différents : un simple\, un de niveau intermédiaire comme Astra ou OceanWP.\nNous utiliserons une vingtaine de plugins au cours de la formation\nFaire des backups automatiques programmés\nTechniques de référencement de base et faire connaitre son (plan de) site chez GOOGLE\nComment rendre son site multilingue par diverses méthodes \n		\n									\n						\n						\n					\n			\n									\n						\n				\n									Formulaire d’inscriptionVotre prénom*Votre nom*Contact Email*Votre email éventuelVotre GSM*Commentaires éventuelsVous avez des souhaits particuliers ?Soumettre
URL:https://www.arc-culture-bruxelles.be/activite/wordpress-classique-du-30-mars-au-2-avril-2026/
LOCATION:ARC ASBL\, Rue Association 20\, Bruxelles\, 1000\, Belgique
CATEGORIES:Numérique,WordPress
ATTACH;FMTTYPE=image/jpeg:https://www.arc-culture-bruxelles.be/wp-content/uploads/2022/11/wordpress1-e16626733038991.jpg
ORGANIZER;CN="ARC ASBL":MAILTO:bruxelles@arc-culture.be
END:VEVENT
END:VCALENDAR