BEGIN:VCALENDAR
VERSION:2.0
PRODID:-//Arc - Bruxelles - antenne bruxelloise de l&#039;Arc - ECPv6.15.20//NONSGML v1.0//EN
CALSCALE:GREGORIAN
METHOD:PUBLISH
X-WR-CALNAME:Arc - Bruxelles - antenne bruxelloise de l&#039;Arc
X-ORIGINAL-URL:https://www.arc-culture-bruxelles.be
X-WR-CALDESC:Évènements pour Arc - Bruxelles - antenne bruxelloise de l&#039;Arc
REFRESH-INTERVAL;VALUE=DURATION:PT1H
X-Robots-Tag:noindex
X-PUBLISHED-TTL:PT1H
BEGIN:VTIMEZONE
TZID:Europe/Brussels
BEGIN:DAYLIGHT
TZOFFSETFROM:+0100
TZOFFSETTO:+0200
TZNAME:CEST
DTSTART:20250330T010000
END:DAYLIGHT
BEGIN:STANDARD
TZOFFSETFROM:+0200
TZOFFSETTO:+0100
TZNAME:CET
DTSTART:20251026T010000
END:STANDARD
BEGIN:DAYLIGHT
TZOFFSETFROM:+0100
TZOFFSETTO:+0200
TZNAME:CEST
DTSTART:20260329T010000
END:DAYLIGHT
BEGIN:STANDARD
TZOFFSETFROM:+0200
TZOFFSETTO:+0100
TZNAME:CET
DTSTART:20261025T010000
END:STANDARD
BEGIN:DAYLIGHT
TZOFFSETFROM:+0100
TZOFFSETTO:+0200
TZNAME:CEST
DTSTART:20270328T010000
END:DAYLIGHT
BEGIN:STANDARD
TZOFFSETFROM:+0200
TZOFFSETTO:+0100
TZNAME:CET
DTSTART:20271031T010000
END:STANDARD
END:VTIMEZONE
BEGIN:VEVENT
DTSTART;TZID=Europe/Brussels:20260107T090000
DTEND;TZID=Europe/Brussels:20260108T123000
DTSTAMP:20260424T054419
CREATED:20251019T181242Z
LAST-MODIFIED:20251203T214340Z
UID:8607-1767776400-1767875400@www.arc-culture-bruxelles.be
SUMMARY:ChatGPT\, mode d’emploi : apprivoiser l’intelligence artificielle\, pas la subir - janvier
DESCRIPTION:deux jours – 7 et 8 janvier 2026 de 9h00 à 12h30\nCette formation vous initie aux outils d’IA générative comme ChatGPT et Gemini\, pour comprendre comment ils fonctionnent et comment les utiliser au quotidien. Vous apprendrez à rédiger des requêtes efficaces (prompts)\, à exploiter ces outils pour vos recherches\, écrits ou projets\, tout en découvrant leurs limites. Nous aborderons les enjeux éthiques\, les biais et les risques liés à l’utilisation massive de l’IA. Chaque séance alternera démonstrations concrètes et réflexion critique sur cette technologie en pleine expansion. L’objectif est de développer une autonomie éclairée : savoir tirer parti des atouts de l’IA sans perdre de vue ses pièges et ses dérives potentielles. \n		\n						\n						\n					\n			\n									\n						\n				\n									Formulaire d’inscriptionYour Website*Votre prénom*Votre nom*Votre email éventuelVotre GSM*Commentaires éventuelsVous avez des souhaits particuliers ?Soumettre
URL:https://www.arc-culture-bruxelles.be/activite/chatgpt-mode-demploi-apprivoiser-lintelligence-artificielle-pas-la-subir-janvier/
LOCATION:ARC ASBL\, Rue Association 20\, Bruxelles\, 1000\, Belgique
CATEGORIES:IA,Numérique
ATTACH;FMTTYPE=image/jpeg:https://www.arc-culture-bruxelles.be/wp-content/uploads/2025/10/intelligence-artificielle.jpg
ORGANIZER;CN="ARC ASBL":MAILTO:bruxelles@arc-culture.be
END:VEVENT
END:VCALENDAR